BEGIN:VCALENDAR
VERSION:2.0
PRODID:-//artists MV - ECPv6.15.20//NONSGML v1.0//EN
CALSCALE:GREGORIAN
METHOD:PUBLISH
X-WR-CALNAME:artists MV
X-ORIGINAL-URL:https://artists-mv.de
X-WR-CALDESC:Veranstaltungen für artists MV
REFRESH-INTERVAL;VALUE=DURATION:PT1H
X-Robots-Tag:noindex
X-PUBLISHED-TTL:PT1H
BEGIN:VTIMEZONE
TZID:UTC
BEGIN:STANDARD
TZOFFSETFROM:+0000
TZOFFSETTO:+0000
TZNAME:UTC
DTSTART:20240101T000000
END:STANDARD
END:VTIMEZONE
BEGIN:VEVENT
DTSTART;TZID=UTC:20251101T180000
DTEND;TZID=UTC:20251101T233000
DTSTAMP:20260420T212631
CREATED:20250911T053847Z
LAST-MODIFIED:20250911T053847Z
UID:46286-1762020000-1762039800@artists-mv.de
SUMMARY:artists MV presents WINDFALL I ENTROPIC STATE I STEREONO I MASTERMUNK
DESCRIPTION:artists MV presents 🎶 VON HAUS ZU HAUS MIT MUSIK No. 3 🎶 \nDiesmal erlebt ihr einen wilden Mix aus verschiedenen Genres\, und wie immer Musik aus MV: \nWINDFALL | ENTROPIC STATE  \n        STEREONO  \n…und mit dabei unser Lieblingsgast aus Berlin – MASTERMUNK \n🗓️Samstag\, 01. November 2025 \n⏰Beginn 18 Uhr \n🎯Straße der Einheit 48\, 17139 Gielow \n🫶🏼Eintritt frei – Über Hutspenden würden wir uns freuen. \nEuch erwartet ein Sound Mix aus Rock | Punk | Indie | Pop | Metal – immer handgemacht und mit Leidenschaft\, mit beeindruckenden Stimmen\, Songs die man nicht so schnell vergisst und unvergesslichen Live-Momenten. \nKommt vorbei und tanzt mit uns an diesem besonderen Abend in Gielow 🎶 \nMehr Infos über die Bands bekommt ihr auf: \nwww.artists-mv.de und \nwww.vonhauszuhaus.com
URL:https://artists-mv.de/alle-veranstaltung/artists-mv-presents-windfall-i-entropic-state-i-stereono-i-mastermunk/
LOCATION:Gielow\, Straße der Einheit 48\, 17139 Gielow\, Mecklenburg-Vorpommern\, \, 17139\, Germany
CATEGORIES:Konzert
ATTACH;FMTTYPE=image/webp:https://artists-mv.de/wp-content/uploads/011125_Instagram.webp
END:VEVENT
BEGIN:VEVENT
DTSTART;TZID=UTC:20251107T190000
DTEND;TZID=UTC:20251107T210000
DTSTAMP:20260420T212631
CREATED:20251015T060837Z
LAST-MODIFIED:20251015T060849Z
UID:46454-1762542000-1762549200@artists-mv.de
SUMMARY:NINE PARTS MILK live
DESCRIPTION:
URL:https://artists-mv.de/alle-veranstaltung/nine-parts-milk-live/
LOCATION:Mecklenburg-Vorpommern
CATEGORIES:Konzert
ATTACH;FMTTYPE=image/webp:https://artists-mv.de/wp-content/uploads/1000247192.webp
END:VEVENT
BEGIN:VEVENT
DTSTART;TZID=UTC:20251114T190000
DTEND;TZID=UTC:20251114T230000
DTSTAMP:20260420T212631
CREATED:20251106T150527Z
LAST-MODIFIED:20251106T150527Z
UID:46706-1763146800-1763161200@artists-mv.de
SUMMARY:VIRUNUM I JAM live in Stralsund - Kulturdiele M8
DESCRIPTION:VIRUNUM I JAM Live in Stralsund – KULTURDIELE M8 \nNewcomer-Bands aus MV live in Stralsund \nFreitag\, 14. November 2025\, 19:00 Uhr \nBarocksaal\, KulturDIELE M8\, Mönchstraße 8\, Stralsund (Altstadt) \nVIRUNUM (Waren/Müritz) und JAM (Rostock) treten im Barocksaal der KulturDIELE M8 auf. Der Eintritt ist frei – Hutspenden zur Unterstützung der jungen Musiker:innen sind herzlich willkommen. \nBeide Bands schreiben ihre Songs selbst und verbinden ehrliche Texte mit eingängigen Melodien und tanzbaren Beats. \nVIRUNUM nahmen zuletzt am Landespopfestival im M.A.U.-Club Rostock teil und gewannen den NDR-Preis. \nJAM veröffentlicht bald ihre erste EP „Angekommen\, vielleicht“ und startet in ein neues Kapitel ihrer Bandgeschichte. \nVeranstaltet wird das Konzert von artists MV im Rahmen der Reihe „Von Haus zu Haus mit Musik“ zur Förderung von Sichtbarkeit und Vernetzung von Künstler*innen aus Mecklenburg-Vorpommern. \nDie KulturDIELE M8 bietet uns hier einen atmosphärischen Barocksaal – der perfekt ist für dieses Konzert. \nwww.artists-mv.de/events \nwww.vonhauszuhaus.com
URL:https://artists-mv.de/alle-veranstaltung/virunum-i-jam-live-in-stralsund-kulturdiele-m8/
LOCATION:kulturdiele M8\, Mönchstraße 8\, Stralsund\, Mecklenburg-Vorpommern\, 17159\, Germany
CATEGORIES:Konzert
ATTACH;FMTTYPE=image/webp:https://artists-mv.de/wp-content/uploads/A3_Poster_mini.webp
END:VEVENT
BEGIN:VEVENT
DTSTART;TZID=UTC:20251115T180000
DTEND;TZID=UTC:20251115T200000
DTSTAMP:20260420T212631
CREATED:20251015T084931Z
LAST-MODIFIED:20251015T084937Z
UID:46459-1763229600-1763236800@artists-mv.de
SUMMARY:little concerts - Das Laden Konzert mit Kaddatz
DESCRIPTION:Samstag\, 15.11.2025 – Beginn 18 Uhr \nKADDATZ aus Wismar \nEuch erwarten Songs die Erinnerungen wecken und sich vertraut einbetten\, zwischen alten Schallplatten und neuen Geschichten. \nOrt: Raiffeisenbank\, Friedenstraße 36\, 17179 Gnoien \n  \nDie Warbelstadt Gnoien freut sich: Unsere beliebten „little concerts – Die Laden Konzerte“ gehen in die nächste Runde!  \nImmer im Januar\, Februar\, Oktober und November laden wir in der Warbelstadt Gnoien wieder zu ganz besonderen Musikabenden ein. Während vielerorts im Herbst und Winter die Bürgersteige hochgeklappt werden\, lebt in Gnoien die Kultur\,  klein\, fein und mit Herz\, weiter. Bereits im dritten Jahr in Folge bringen die Laden Konzerte Musikerinnen und Musiker aus Mecklenburg-Vorpommern in einer einzigartigen\, fast familiären Atmosphäre auf die Bühne. \nDie „little concerts“ haben sich längst einen Namen gemacht: Sie sind nicht nur in der regionalen Musikwelt etabliert\, sondern haben auch eine treue Fangemeinschaft gewonnen\, die regelmäßig den Weg in die Läden und Praxen der Stadt findet. \nOb Singer-Songwriter\, Rock\, Hip-Hop\, Folk\, Pop oder Jazz – das Programm bleibt abwechslungsreich. \nEines aber ist sicher: Die Musik kommt immer aus Mecklenburg-Vorpommern\, handgemacht und mit Leidenschaft. \nWir freuen uns auf vier wunderbare Konzertabende\, die zeigen\, dass große Musik auch im kleinen Rahmen zu Hause sein kann. \n  \nwww.gnoien.com/events
URL:https://artists-mv.de/alle-veranstaltung/little-concerts-das-laden-konzert-mit-kaddatz/
LOCATION:Gnoien\, Markt 11\, Gnoien\, Mecklenburg-Vorpommern\, 17179\, Germany
CATEGORIES:Konzert
ATTACH;FMTTYPE=image/webp:https://artists-mv.de/wp-content/uploads/251115_Kaddatz_A4.webp
END:VEVENT
BEGIN:VEVENT
DTSTART;TZID=UTC:20251122T160000
DTEND;TZID=UTC:20251122T180000
DTSTAMP:20260420T212631
CREATED:20251015T085133Z
LAST-MODIFIED:20251015T085322Z
UID:46462-1763827200-1763834400@artists-mv.de
SUMMARY:little concerts - Das Laden Konzert mit NepTunes
DESCRIPTION:Samstag\, 22.11.2025 – Beginn 16 Uhr \nNepTunes aus Schwerin \nsingen für uns ihre alten und neuen Lieblingssongs\, u.a. von 4 Non Blondes\, Sade\, John Lennon\, Wir sind Helden u.v.m. \nOrt: HAARschneiderei\, Markt 10\, 17179 Gnoien \nDie Warbelstadt Gnoien freut sich: Unsere beliebten „little concerts – Die Laden Konzerte“ gehen in die nächste Runde!  \nImmer im Januar\, Februar\, Oktober und November laden wir in der Warbelstadt Gnoien wieder zu ganz besonderen Musikabenden ein. Während vielerorts im Herbst und Winter die Bürgersteige hochgeklappt werden\, lebt in Gnoien die Kultur\,  klein\, fein und mit Herz\, weiter. Bereits im dritten Jahr in Folge bringen die Laden Konzerte Musikerinnen und Musiker aus Mecklenburg-Vorpommern in einer einzigartigen\, fast familiären Atmosphäre auf die Bühne. \nDie „little concerts“ haben sich längst einen Namen gemacht: Sie sind nicht nur in der regionalen Musikwelt etabliert\, sondern haben auch eine treue Fangemeinschaft gewonnen\, die regelmäßig den Weg in die Läden und Praxen der Stadt findet. \nOb Singer-Songwriter\, Rock\, Hip-Hop\, Folk\, Pop oder Jazz – das Programm bleibt abwechslungsreich. \nEines aber ist sicher: Die Musik kommt immer aus Mecklenburg-Vorpommern\, handgemacht und mit Leidenschaft. \nWir freuen uns auf vier wunderbare Konzertabende\, die zeigen\, dass große Musik auch im kleinen Rahmen zu Hause sein kann.
URL:https://artists-mv.de/alle-veranstaltung/little-concerts-das-laden-konzert-mit-neptunes/
LOCATION:Gnoien\, Markt 11\, Gnoien\, Mecklenburg-Vorpommern\, 17179\, Germany
CATEGORIES:Konzert
ATTACH;FMTTYPE=image/webp:https://artists-mv.de/wp-content/uploads/251122_Neptunes_A4.webp
END:VEVENT
BEGIN:VEVENT
DTSTART;TZID=UTC:20251128T000000
DTEND;TZID=UTC:20251128T000000
DTSTAMP:20260420T212631
CREATED:20250628T115738Z
LAST-MODIFIED:20250628T115738Z
UID:44621-1764288000-1764288000@artists-mv.de
SUMMARY:GOLDEN DAYS TOUR 2025 | Greifswald
DESCRIPTION:mit Kaddatz
URL:https://artists-mv.de/alle-veranstaltung/golden-days-tour-2025-greifswald/
LOCATION:St. Spiritus
CATEGORIES:Konzert
ATTACH;FMTTYPE=image/webp:https://artists-mv.de/wp-content/uploads/cover_dear-robin.webp
END:VEVENT
END:VCALENDAR