BEGIN:VCALENDAR
VERSION:2.0
PRODID:-//artists MV - ECPv6.15.20//NONSGML v1.0//EN
CALSCALE:GREGORIAN
METHOD:PUBLISH
X-WR-CALNAME:artists MV
X-ORIGINAL-URL:https://artists-mv.de
X-WR-CALDESC:Veranstaltungen für artists MV
REFRESH-INTERVAL;VALUE=DURATION:PT1H
X-Robots-Tag:noindex
X-PUBLISHED-TTL:PT1H
BEGIN:VTIMEZONE
TZID:UTC
BEGIN:STANDARD
TZOFFSETFROM:+0000
TZOFFSETTO:+0000
TZNAME:UTC
DTSTART:20240101T000000
END:STANDARD
END:VTIMEZONE
BEGIN:VEVENT
DTSTART;TZID=UTC:20251004T200000
DTEND;TZID=UTC:20251004T220000
DTSTAMP:20260420T180046
CREATED:20250628T113329Z
LAST-MODIFIED:20250628T113329Z
UID:44580-1759608000-1759615200@artists-mv.de
SUMMARY:Stendal\, Club Hanseat
DESCRIPTION:Erlebe Laura Folkers
URL:https://artists-mv.de/alle-veranstaltung/stendal-club-hanseat/
LOCATION:Mecklenburg-Vorpommern
CATEGORIES:Konzert
ATTACH;FMTTYPE=image/webp:https://artists-mv.de/wp-content/uploads/andysoyt.webp
END:VEVENT
BEGIN:VEVENT
DTSTART;TZID=UTC:20251009T000000
DTEND;TZID=UTC:20251009T000000
DTSTAMP:20260420T180046
CREATED:20250628T114443Z
LAST-MODIFIED:20250628T114443Z
UID:44594-1759968000-1759968000@artists-mv.de
SUMMARY:GOLDEN DAYS TOUR 2025 | Rostock
DESCRIPTION:#inkl. Mathis Marks (Bass) Abschlusskonzert
URL:https://artists-mv.de/alle-veranstaltung/golden-days-tour-2025-rostock/
LOCATION:Peter Weiss Haus\, Doberaner Straße 21\, Rostock\, 18057
CATEGORIES:Konzert
ATTACH;FMTTYPE=image/webp:https://artists-mv.de/wp-content/uploads/cover_dear-robin.webp
END:VEVENT
BEGIN:VEVENT
DTSTART;TZID=UTC:20251010T000000
DTEND;TZID=UTC:20251010T000000
DTSTAMP:20260420T180046
CREATED:20250628T114755Z
LAST-MODIFIED:20250628T114755Z
UID:44596-1760054400-1760054400@artists-mv.de
SUMMARY:GOLDEN DAYS TOUR 2025 | Lübeck
DESCRIPTION:mit Kaddatz
URL:https://artists-mv.de/alle-veranstaltung/golden-days-tour-2025-luebeck/
LOCATION:Funambules
CATEGORIES:Konzert
ATTACH;FMTTYPE=image/webp:https://artists-mv.de/wp-content/uploads/cover_dear-robin.webp
END:VEVENT
BEGIN:VEVENT
DTSTART;TZID=UTC:20251011T000000
DTEND;TZID=UTC:20251011T000000
DTSTAMP:20260420T180046
CREATED:20250628T114939Z
LAST-MODIFIED:20250923T173702Z
UID:44599-1760140800-1760140800@artists-mv.de
SUMMARY:ABGESAGT - GOLDEN DAYS TOUR 2025 | Köln
DESCRIPTION:Weitere Infos folgen demnächst
URL:https://artists-mv.de/alle-veranstaltung/golden-days-tour-2025-koeln/
LOCATION:Yard Club  Kantine Köln
CATEGORIES:Konzert
ATTACH;FMTTYPE=image/webp:https://artists-mv.de/wp-content/uploads/cover_dear-robin.webp
END:VEVENT
BEGIN:VEVENT
DTSTART;TZID=UTC:20251011T170000
DTEND;TZID=UTC:20251011T190000
DTSTAMP:20260420T180046
CREATED:20250923T182225Z
LAST-MODIFIED:20250923T182225Z
UID:46306-1760202000-1760209200@artists-mv.de
SUMMARY:little concerts - Das Laden Konzert mit Hyena Fields
DESCRIPTION:little concerts – Das Laden Konzert mit Hyena Fields \nImmer im Januar\, Februar\, Oktober und November freuen wir uns auf unsere little concerts – die Laden Konzerte in der Warbelstadt Gnoien. \nAm Samstag\, den 11.10. 2025 ist es wieder soweit\, unser erstes Konzert im Oktober findet im Alten Pfarrhaus mit Hyena Fields aus Rostock statt. \nLyrik in Songs verpackt – Deutsch und Englisch – und dazwischen bekannte Lieblingscoversongs. \nDer Eintritt ist frei. Über Hutspenden zur Unterstützung der Künstler:innen würden wir uns sehr freuen.  \nAdresse: Altes Pfarrhaus\, Hornburgstraße 26\, 17179 Gnoien \nBeginn: 17 Uhr \nDie Bar füllt die Darguner Brauerei und die Mädels vom Moin Bike schmeißen den Grill an. \nKommt vorbei! Wir freuen uns auf den ersten besonderen Konzertabend im Oktober mit euch.
URL:https://artists-mv.de/alle-veranstaltung/little-concerts-das-laden-konzert-mit-hyena-fields/
LOCATION:Altes Pfarrhaus\, Hornburgstraße 26\, Gnoien\, Mecklenburg-Vorpommern\, 17159\, Germany
CATEGORIES:Konzert
ATTACH;FMTTYPE=image/webp:https://artists-mv.de/wp-content/uploads/251011_HyenaFieldsmini.webp
ORGANIZER;CN="Gnoien":MAILTO:city@gnoien.com
END:VEVENT
BEGIN:VEVENT
DTSTART;TZID=UTC:20251017T000000
DTEND;TZID=UTC:20251017T000000
DTSTAMP:20260420T180046
CREATED:20250628T115135Z
LAST-MODIFIED:20250628T115135Z
UID:44600-1760659200-1760659200@artists-mv.de
SUMMARY:GOLDEN DAYS TOUR 2025 | Berlin
DESCRIPTION:
URL:https://artists-mv.de/alle-veranstaltung/golden-days-tour-2025-berlin/
LOCATION:Brickhouse  Berlin
CATEGORIES:Konzert
ATTACH;FMTTYPE=image/webp:https://artists-mv.de/wp-content/uploads/cover_dear-robin.webp
END:VEVENT
BEGIN:VEVENT
DTSTART;TZID=UTC:20251018T000000
DTEND;TZID=UTC:20251018T000000
DTSTAMP:20260420T180046
CREATED:20250628T115220Z
LAST-MODIFIED:20250628T115220Z
UID:44601-1760745600-1760745600@artists-mv.de
SUMMARY:GOLDEN DAYS TOUR 2025 | Delitzsch
DESCRIPTION:
URL:https://artists-mv.de/alle-veranstaltung/golden-days-tour-2025-delitzsch/
LOCATION:Pfarrscheune Schenkenberg
CATEGORIES:Konzert
ATTACH;FMTTYPE=image/webp:https://artists-mv.de/wp-content/uploads/cover_dear-robin.webp
END:VEVENT
BEGIN:VEVENT
DTSTART;TZID=UTC:20251018T170000
DTEND;TZID=UTC:20251018T190000
DTSTAMP:20260420T180046
CREATED:20250923T183905Z
LAST-MODIFIED:20250923T183905Z
UID:46313-1760806800-1760814000@artists-mv.de
SUMMARY:little concerts - Das Laden Konzert mit Stegmann & Pawlette
DESCRIPTION:little concerts – Das Laden Konzert mit Stegmann & Pawletta \nImmer im Januar\, Februar\, Oktober und November freuen wir uns auf unsere little concerts – die Laden Konzerte in der Warbelstadt Gnoien. \nAm Samstag\, den 18.10.2025 geht es weiter\, unser zweites Konzert im Oktober findet in den Räumen der Tiermedizinischen Praxis in Gnoien mit Stegmann & Pawletta aus Rostock statt. \nZauberhafte Geschichten verpackt in Liedern über Begegnungen mit Menschen\, die Liebe und das Leben. \nBeginn 17 Uhr \nAdresse: Friedenstraße 14\, 17179 Gnoien \nDer Eintritt ist frei. Über Hutspenden zur Unterstützung der Künstler*innen würden wir uns sehr freuen.  \nDie Bar füllt die Darguner Brauerei und für einen kleinen Snack wird vor Ort gesorgt. \nKommt vorbei! \nWir freuen uns auf einen unvergesslichen Konzertabend mit euch.
URL:https://artists-mv.de/alle-veranstaltung/little-concerts-das-laden-konzert-mit-stegmann-pawlette/
LOCATION:Tierarzt Gnoien\, Friedenstraße 14\, Gnoien\, Mecklenburg-Vorpommern\, 17179\, Germany
CATEGORIES:Konzert
ATTACH;FMTTYPE=image/webp:https://artists-mv.de/wp-content/uploads/251018_StegmannPawletta_mini.webp
ORGANIZER;CN="Gnoien":MAILTO:city@gnoien.com
END:VEVENT
BEGIN:VEVENT
DTSTART;TZID=UTC:20251024T000000
DTEND;TZID=UTC:20251024T000000
DTSTAMP:20260420T180046
CREATED:20250628T115439Z
LAST-MODIFIED:20250628T115630Z
UID:44609-1761264000-1761264000@artists-mv.de
SUMMARY:GOLDEN DAYS TOUR 2025 | Dorsten
DESCRIPTION:
URL:https://artists-mv.de/alle-veranstaltung/golden-days-tour-2025-dorsten/
LOCATION:Vinyl Café Schwarzes Gold
CATEGORIES:Konzert
ATTACH;FMTTYPE=image/webp:https://artists-mv.de/wp-content/uploads/cover_dear-robin.webp
END:VEVENT
BEGIN:VEVENT
DTSTART;TZID=UTC:20251025T000000
DTEND;TZID=UTC:20251025T000000
DTSTAMP:20260420T180046
CREATED:20250628T115504Z
LAST-MODIFIED:20250628T115630Z
UID:44610-1761350400-1761350400@artists-mv.de
SUMMARY:GOLDEN DAYS TOUR 2025 | Emsdetten
DESCRIPTION:
URL:https://artists-mv.de/alle-veranstaltung/golden-days-tour-2025-emsdetten/
LOCATION:C-Dur
CATEGORIES:Konzert
ATTACH;FMTTYPE=image/webp:https://artists-mv.de/wp-content/uploads/cover_dear-robin.webp
END:VEVENT
BEGIN:VEVENT
DTSTART;TZID=UTC:20251029T183000
DTEND;TZID=UTC:20251029T200000
DTSTAMP:20260420T180046
CREATED:20250923T171831Z
LAST-MODIFIED:20250923T171831Z
UID:46296-1761762600-1761768000@artists-mv.de
SUMMARY:UPDATE - Geschichten & Infos aus erster Hand - Thema: Seenotrettung
DESCRIPTION:Eine neue Vortragsreihe von artists MV beleuchtet relevante Themen aus erster Hand\, mit Dialogmöglichkeiten und Einblicken direkt von Fachleuten – Das erste Thema: SEENOTRETTUNG \nUPDATE – Geschichten & Infos aus erster Hand  \nDie Idee entstand\, weil für uns im Augenblick viele Fragen unbeantwortet bleiben\, aber oft auch Informationen aus erster Hand fehlen. Dazu kommt\, dass Gerüchte und Halbwissen oft für Ängste und Unsicherheit in unserer Gesellschaft sorgen. Klar ist aber auch\, dass Halbwissen und Gerüchte sehr schnell zu Fehlinformationen werden und viele Fragen dadurch unbeantwortet bleiben. Viele Menschen erleben aber auch\, dass ihnen nicht mehr zugehört wird. Das führt zu Missverständnissen. \nDeshalb denken wir\, es ist umso wichtiger ins Gespräch zu kommen und das auch mit Menschen\, die wissen\, wovon sie reden\, und die tatsächlich das erleben\, worüber gesprochen wird. Es gibt viele spannende\, aber auch erschreckende Geschichten auf der Welt\, die es Wert sind erzählt zu werden\, und bei denen es sich lohnt wieder hin- und zuzuhören. Das wollen wir euch und uns ermöglichen mit dieser Reihe. \nDie Veranstaltungsreihe lädt jeden ein\, der gern mehr Hintergrundinformationen über wichtige Themen erhalten möchte und Referent:innen und Fachleute kennenlernen möchte\, um ihnen bei ihren Erfahrungsberichten zuzuhören. Es wird immer die Möglichkeit geben\, eigene Fragen stellen zu können und Antworten aus erster Hand zu erhalten. \nDas erste Thema von UPDATE – Geschichten & Infos aus erster Hand ist die SEENOTRETTUNG im Mittelmeer – ein aktueller Einblick \nAuch wenn das Thema Seenotrettung auf dem Mittelmeer in den Medien immer wieder untergeht\, hat sich an der Situation für Geflüchtete auf dieser lebensgefährlichen Route nichts geändert. Es gibt immer noch sehr viele Menschen\, die versuchen\, ihre Heimat auf Schlauchbooten und über einen der gefährlichsten Wege – das Mittelmeer – zu verlassen\, in der Hoffnung\, auf der anderen Seite ein besseres Leben beginnen zu können. \nFast täglich berichten zivile Seenotrettungsorganisationen wie Sea-Watch\, Sea-Punks\, Sea-Eye oder ResqShip von dramatischen Rettungen – und von Toten. \n🎥 In diesem Vortrag bekommst du: \n• einen Einblick in die Geschichte der zivilen Seenotrettung \n• aktuelle Infos zur Lage auf dem Mittelmeer \n• Fotos\, Videos & Berichte direkt von Bord \n• Hintergründe zur politischen Sabotage von Rettungseinsätzen \n• Raum für Fragen & Diskussion \n🎤 Referent: Jonas (39) – politisch aktiv in verschiedenen Kontexten\, seit 2017 bei 15 Rettungseinsätzen auf unterschiedlichen Schiffen im Mittelmeerraum. \nWas eigentlich gerade auf dem Mittelmeer los ist\, das werden wir am Mittwoch\, den 29.10.2025 um 18 Uhr von Jonas erfahren.  \nDer Eintritt ist frei – Dank der Unterstützung der Rosa Luxemburg Stiftung Mecklenburg-Vorpommern. \nBitte meldet euch an unter mail@artists-mv.de oder telefonisch 01723090786.
URL:https://artists-mv.de/alle-veranstaltung/update-geschichten-infos-aus-erster-hand-thema-seenotrettung/
LOCATION:Mittelhof Gessin\, Gessin 7B\, Basedow\, Mecklenburg-Vorpommern\, 17139\, Germany
CATEGORIES:Vortrag
ATTACH;FMTTYPE=image/webp:https://artists-mv.de/wp-content/uploads/291025_Sea-Watch_Flyer_mini.webp
ORGANIZER;CN="artists MV":MAILTO:mail@artists-mv.de
END:VEVENT
BEGIN:VEVENT
DTSTART;TZID=UTC:20251031T000000
DTEND;TZID=UTC:20251031T000000
DTSTAMP:20260420T180046
CREATED:20250628T115533Z
LAST-MODIFIED:20250628T115533Z
UID:44611-1761868800-1761868800@artists-mv.de
SUMMARY:GOLDEN DAYS TOUR 2025 | Bremen
DESCRIPTION:
URL:https://artists-mv.de/alle-veranstaltung/golden-days-tour-2025-bremen/
LOCATION:Betty’s Black Pearl
CATEGORIES:Konzert
ATTACH;FMTTYPE=image/webp:https://artists-mv.de/wp-content/uploads/cover_dear-robin.webp
END:VEVENT
END:VCALENDAR