BEGIN:VCALENDAR
VERSION:2.0
PRODID:-//artists MV - ECPv6.15.20//NONSGML v1.0//EN
CALSCALE:GREGORIAN
METHOD:PUBLISH
X-WR-CALNAME:artists MV
X-ORIGINAL-URL:https://artists-mv.de
X-WR-CALDESC:Veranstaltungen für artists MV
REFRESH-INTERVAL;VALUE=DURATION:PT1H
X-Robots-Tag:noindex
X-PUBLISHED-TTL:PT1H
BEGIN:VTIMEZONE
TZID:UTC
BEGIN:STANDARD
TZOFFSETFROM:+0000
TZOFFSETTO:+0000
TZNAME:UTC
DTSTART:20250101T000000
END:STANDARD
END:VTIMEZONE
BEGIN:VEVENT
DTSTART;TZID=UTC:20260704T100000
DTEND;TZID=UTC:20260704T233000
DTSTAMP:20260423T143900
CREATED:20250802T114537Z
LAST-MODIFIED:20250802T114545Z
UID:46053-1783159200-1783207800@artists-mv.de
SUMMARY:Schafwiesen Konzerte 2
DESCRIPTION:Ohne die Schafwiesen Konzerte geht es nicht mehr. Es hat sich gezeigt\, dass eine Fortsetzung nicht nur wichtig für die Musiker*innen und Künstler*innen aus Mecklenburg-Vorpommern ist\, sondern auch für die Dorfgemeinschaft\, die Region Mecklenburgische Seenplatte\, Mecklenburg-Vorpommern und ganz Deutschland. \nSAVE THE DATE \nSchafwiesen Konzerte 2 \nam Samstag\, 04. Juli 2026 \nab 10 Uhr in Glasow-Dargun. \n 
URL:https://artists-mv.de/alle-veranstaltung/schafwiesen-konzerte-2/
LOCATION:Mecklenburg-Vorpommern
CATEGORIES:Festival
ATTACH;FMTTYPE=image/webp:https://artists-mv.de/wp-content/uploads/Savethedate.webp
ORGANIZER;CN="artists MV":MAILTO:mail@artists-mv.de
END:VEVENT
END:VCALENDAR