BEGIN:VCALENDAR
VERSION:2.0
PRODID:-//artists MV - ECPv6.15.20//NONSGML v1.0//EN
CALSCALE:GREGORIAN
METHOD:PUBLISH
X-WR-CALNAME:artists MV
X-ORIGINAL-URL:https://artists-mv.de
X-WR-CALDESC:Veranstaltungen für artists MV
REFRESH-INTERVAL;VALUE=DURATION:PT1H
X-Robots-Tag:noindex
X-PUBLISHED-TTL:PT1H
BEGIN:VTIMEZONE
TZID:UTC
BEGIN:STANDARD
TZOFFSETFROM:+0000
TZOFFSETTO:+0000
TZNAME:UTC
DTSTART:20250101T000000
END:STANDARD
END:VTIMEZONE
BEGIN:VEVENT
DTSTART;TZID=UTC:20260604T190000
DTEND;TZID=UTC:20260604T210000
DTSTAMP:20260423T143407
CREATED:20260401T180542Z
LAST-MODIFIED:20260401T180719Z
UID:47575-1780599600-1780606800@artists-mv.de
SUMMARY:Kutterscholle mit Speckstippe - artists MV unplugged
DESCRIPTION:artists MV unplugged \nAkustische Konzerte mit Musiker:innen aus Mecklenburg-Vorpommern \nin 14 Dorfkirchen und Kapellen an besonderen Orten auf dem Land. \nKonzert No. 4 – Kutterscholle mit Speckstippe unplugged \n🎶 Donnerstag\, 04.06.2026 \n⏰ Beginn 19 Uhr \n💒 Dorfkirche Zettemin\, Dorfstraße 45\, 17153 Zettemin \n🎟️Tickets – GIB WAS DU KANNST: www.artists-mv.de/tickets \nMehr Infos www.artists-mv.de/unplugged \n#KutterschollemitSpeckstippe #artistsmvunplugged #dorfkirche #zettemin
URL:https://artists-mv.de/alle-veranstaltung/kutterscholle-mit-speckstippe-artists-mv-unplugged/
LOCATION:Kirche Zettemin\, Dorfstraße 45\, Zettemin\, Mecklenburg-Vorpommern\, 17153\, Germany
CATEGORIES:Konzert
ATTACH;FMTTYPE=image/webp:https://artists-mv.de/wp-content/uploads/A3_Poster_Kutterscholle.webp
ORGANIZER;CN="artists MV":MAILTO:mail@artists-mv.de
END:VEVENT
END:VCALENDAR