BEGIN:VCALENDAR
VERSION:2.0
PRODID:-//artists MV - ECPv6.15.20//NONSGML v1.0//EN
CALSCALE:GREGORIAN
METHOD:PUBLISH
X-WR-CALNAME:artists MV
X-ORIGINAL-URL:https://artists-mv.de
X-WR-CALDESC:Veranstaltungen für artists MV
REFRESH-INTERVAL;VALUE=DURATION:PT1H
X-Robots-Tag:noindex
X-PUBLISHED-TTL:PT1H
BEGIN:VTIMEZONE
TZID:UTC
BEGIN:STANDARD
TZOFFSETFROM:+0000
TZOFFSETTO:+0000
TZNAME:UTC
DTSTART:20250101T000000
END:STANDARD
END:VTIMEZONE
BEGIN:VEVENT
DTSTART;TZID=UTC:20260507T190000
DTEND;TZID=UTC:20260507T220000
DTSTAMP:20260425T105405
CREATED:20260325T081648Z
LAST-MODIFIED:20260401T175658Z
UID:47526-1778180400-1778191200@artists-mv.de
SUMMARY:Growing Echo - artists MV unplugged
DESCRIPTION:artists MV unplugged \nAkustische Konzerte mit Musiker:innen aus Mecklenburg-Vorpommern \nin 14 Dorfkirchen und Kapellen an besonderen Orten auf dem Land. \nKonzert No. 1 – Growing Echo unplugged \n🎶 Donnerstag\, 07.05.2026 \n⏰ Beginn 19 Uhr \n💒 Kunstkapelle Remplin\, Schloßstraße 15\, 17139 Remplin \n🎟️Tickets – GIB WAS DU KANNST: www.artists-mv.de/tickets \nMehr Infos über GROWING ECHO:  www.artists-mv.de/growing-echo \n 
URL:https://artists-mv.de/alle-veranstaltung/growing-echo-unplugged/
LOCATION:Kunstkapelle Remplin\, Schloßstraße 15\, Remplin\, Mecklenburg-Vorpommern\, 17139\, Germany
CATEGORIES:Konzert
ATTACH;FMTTYPE=image/webp:https://artists-mv.de/wp-content/uploads/A3_Poster_GrowingEcho_mini.webp
ORGANIZER;CN="artists MV":MAILTO:mail@artists-mv.de
END:VEVENT
END:VCALENDAR