BEGIN:VCALENDAR
VERSION:2.0
PRODID:-//artists MV - ECPv6.15.20//NONSGML v1.0//EN
CALSCALE:GREGORIAN
METHOD:PUBLISH
X-ORIGINAL-URL:https://artists-mv.de
X-WR-CALDESC:Veranstaltungen für artists MV
REFRESH-INTERVAL;VALUE=DURATION:PT1H
X-Robots-Tag:noindex
X-PUBLISHED-TTL:PT1H
BEGIN:VTIMEZONE
TZID:UTC
BEGIN:STANDARD
TZOFFSETFROM:+0000
TZOFFSETTO:+0000
TZNAME:UTC
DTSTART:20240101T000000
END:STANDARD
END:VTIMEZONE
BEGIN:VEVENT
DTSTART;TZID=UTC:20251011T170000
DTEND;TZID=UTC:20251011T190000
DTSTAMP:20260420T194005
CREATED:20250923T182225Z
LAST-MODIFIED:20250923T182225Z
UID:46306-1760202000-1760209200@artists-mv.de
SUMMARY:little concerts - Das Laden Konzert mit Hyena Fields
DESCRIPTION:little concerts – Das Laden Konzert mit Hyena Fields \nImmer im Januar\, Februar\, Oktober und November freuen wir uns auf unsere little concerts – die Laden Konzerte in der Warbelstadt Gnoien. \nAm Samstag\, den 11.10. 2025 ist es wieder soweit\, unser erstes Konzert im Oktober findet im Alten Pfarrhaus mit Hyena Fields aus Rostock statt. \nLyrik in Songs verpackt – Deutsch und Englisch – und dazwischen bekannte Lieblingscoversongs. \nDer Eintritt ist frei. Über Hutspenden zur Unterstützung der Künstler:innen würden wir uns sehr freuen.  \nAdresse: Altes Pfarrhaus\, Hornburgstraße 26\, 17179 Gnoien \nBeginn: 17 Uhr \nDie Bar füllt die Darguner Brauerei und die Mädels vom Moin Bike schmeißen den Grill an. \nKommt vorbei! Wir freuen uns auf den ersten besonderen Konzertabend im Oktober mit euch.
URL:https://artists-mv.de/alle-veranstaltung/little-concerts-das-laden-konzert-mit-hyena-fields/
LOCATION:Altes Pfarrhaus\, Hornburgstraße 26\, Gnoien\, Mecklenburg-Vorpommern\, 17159\, Germany
CATEGORIES:Konzert
ATTACH;FMTTYPE=image/webp:https://artists-mv.de/wp-content/uploads/251011_HyenaFieldsmini.webp
ORGANIZER;CN="Gnoien":MAILTO:city@gnoien.com
END:VEVENT
END:VCALENDAR