BEGIN:VCALENDAR
VERSION:2.0
PRODID:-//artists MV - ECPv6.15.20//NONSGML v1.0//EN
CALSCALE:GREGORIAN
METHOD:PUBLISH
X-ORIGINAL-URL:https://artists-mv.de
X-WR-CALDESC:Veranstaltungen für artists MV
REFRESH-INTERVAL;VALUE=DURATION:PT1H
X-Robots-Tag:noindex
X-PUBLISHED-TTL:PT1H
BEGIN:VTIMEZONE
TZID:UTC
BEGIN:STANDARD
TZOFFSETFROM:+0000
TZOFFSETTO:+0000
TZNAME:UTC
DTSTART:20240101T000000
END:STANDARD
END:VTIMEZONE
BEGIN:VEVENT
DTSTART;TZID=UTC:20251004T200000
DTEND;TZID=UTC:20251004T220000
DTSTAMP:20260420T180145
CREATED:20250628T113329Z
LAST-MODIFIED:20250628T113329Z
UID:44580-1759608000-1759615200@artists-mv.de
SUMMARY:Stendal\, Club Hanseat
DESCRIPTION:Erlebe Laura Folkers
URL:https://artists-mv.de/alle-veranstaltung/stendal-club-hanseat/
LOCATION:Mecklenburg-Vorpommern
CATEGORIES:Konzert
ATTACH;FMTTYPE=image/webp:https://artists-mv.de/wp-content/uploads/andysoyt.webp
END:VEVENT
END:VCALENDAR