BEGIN:VCALENDAR
VERSION:2.0
PRODID:-//artists MV - ECPv6.15.20//NONSGML v1.0//EN
CALSCALE:GREGORIAN
METHOD:PUBLISH
X-ORIGINAL-URL:https://artists-mv.de
X-WR-CALDESC:Veranstaltungen für artists MV
REFRESH-INTERVAL;VALUE=DURATION:PT1H
X-Robots-Tag:noindex
X-PUBLISHED-TTL:PT1H
BEGIN:VTIMEZONE
TZID:UTC
BEGIN:STANDARD
TZOFFSETFROM:+0000
TZOFFSETTO:+0000
TZNAME:UTC
DTSTART:20240101T000000
END:STANDARD
END:VTIMEZONE
BEGIN:VEVENT
DTSTART;TZID=UTC:20250920T100000
DTEND;TZID=UTC:20250920T160000
DTSTAMP:20260420T180414
CREATED:20250911T054209Z
LAST-MODIFIED:20250911T054209Z
UID:46291-1758362400-1758384000@artists-mv.de
SUMMARY:Der Warbel FlohMarkt - Live mit Itchy Feet
DESCRIPTION:Am 20. September von 10 – 16 Uhr ist es wieder soweit. Wir trödeln auf dem Warbel FlohMarkt in Gnoien. \nVon A wie ALT bis Z wie Zauberhaft. Hier findet ihr alles Second Hand. \nAnmeldungen sind bis 18. September möglich per eMail: city@gnoien.com oder telefonisch unter 0173-1951217. \nWie immer wird es ein Marktplatz-Konzert geben. Diesmal besuchen uns Itchy Feet. \nItchy Feet\, das sind Maika\, Mariko\, Fidel und Hans. Um Musik zu machen kommen sie aus Röbel\, Rostock und Berlin zusammen. \nDie Songs von Itchy Feet haben sowohl den Staub der Straße als auch den Duft der Wälder und Wiesen tief eingeatmet. Mal träumerisch\, mal mit einem Augenzwinkern erzählen sie uns vom Reisen: Von inneren wie äußeren Schritten\, Erkenntnissen auf dem Weg und von dem doch nie richtig ankommen. Und wenn die Abenteuerlust geweckt ist\, das Fernweh sich meldet\, wenn die Füße nicht mehr ruhig bleiben können… dann hat die Musik von Itchy Feet ihr Ziel gefunden. \nItchy Feets Melodien und Harmonien sind durchtränkt von der Folk- und Rockmusik der 70er und so zollt die Band Künstlern wie Fleetwood Mac\, Buffalo Springfield\, und Van Morrison ganz klar ihren Tribut. \nAuf Spotify und YouTube könnt ihr euch schon mal einen kleinen Vorgeschmack auf ihre Musik holen. \nKulinarisch versorgt werden wir von Lyssis Foodtruck mit ihren leckeren Burgern\, zum Nachtisch gibt es Mutzen und die Bratwurst darf natürlich auch nicht fehlen.
URL:https://artists-mv.de/alle-veranstaltung/der-warbel-flohmarkt-live-mit-itchy-feet/
LOCATION:Gnoien\, Markt 11\, Gnoien\, Mecklenburg-Vorpommern\, 17179\, Germany
CATEGORIES:Konzert
ATTACH;FMTTYPE=image/webp:https://artists-mv.de/wp-content/uploads/200925_Flohmarkt_mini.webp
END:VEVENT
BEGIN:VEVENT
DTSTART;TZID=UTC:20250920T110000
DTEND;TZID=UTC:20250920T170000
DTSTAMP:20260420T180414
CREATED:20250710T054032Z
LAST-MODIFIED:20250710T054032Z
UID:45574-1758366000-1758387600@artists-mv.de
SUMMARY:Kutterscholle mit Speckstippe live in Schwerin
DESCRIPTION:Sa 20.09. I Schwerin I Hof Medewege I 11-17H
URL:https://artists-mv.de/alle-veranstaltung/kutterscholle-mit-speckstippe-live-in-schwerin/
LOCATION:Hof Medewege\, Hauptstraße 11-15\, Schwerin\, Mecklenburg-Vorpommern\, 19055\, Germany
CATEGORIES:Konzert
ATTACH;FMTTYPE=image/webp:https://artists-mv.de/wp-content/uploads/cover_kutterscholle-mit-speckstippe.webp
END:VEVENT
END:VCALENDAR