BEGIN:VCALENDAR
VERSION:2.0
PRODID:-//artists MV - ECPv6.15.20//NONSGML v1.0//EN
CALSCALE:GREGORIAN
METHOD:PUBLISH
X-ORIGINAL-URL:https://artists-mv.de
X-WR-CALDESC:Veranstaltungen für artists MV
REFRESH-INTERVAL;VALUE=DURATION:PT1H
X-Robots-Tag:noindex
X-PUBLISHED-TTL:PT1H
BEGIN:VTIMEZONE
TZID:UTC
BEGIN:STANDARD
TZOFFSETFROM:+0000
TZOFFSETTO:+0000
TZNAME:UTC
DTSTART:20240101T000000
END:STANDARD
END:VTIMEZONE
BEGIN:VEVENT
DTSTART;TZID=UTC:20250823T150000
DTEND;TZID=UTC:20250823T170000
DTSTAMP:20260420T161730
CREATED:20250710T053646Z
LAST-MODIFIED:20250710T053646Z
UID:45571-1755961200-1755968400@artists-mv.de
SUMMARY:Kutterscholle mit Speckstippe live in Ludwigslust
DESCRIPTION:Sa.23.08. I Ludwigslust I 15H
URL:https://artists-mv.de/alle-veranstaltung/kutterscholle-mit-speckstippe-live-in-ludwigslust/
LOCATION:Ludwigslust\, Ludwiglust\, Germany
CATEGORIES:Konzert
ATTACH;FMTTYPE=image/webp:https://artists-mv.de/wp-content/uploads/cover_kutterscholle-mit-speckstippe.webp
END:VEVENT
END:VCALENDAR