BEGIN:VCALENDAR
VERSION:2.0
PRODID:-//artists MV - ECPv6.15.20//NONSGML v1.0//EN
CALSCALE:GREGORIAN
METHOD:PUBLISH
X-WR-CALNAME:artists MV
X-ORIGINAL-URL:https://artists-mv.de
X-WR-CALDESC:Veranstaltungen für artists MV
REFRESH-INTERVAL;VALUE=DURATION:PT1H
X-Robots-Tag:noindex
X-PUBLISHED-TTL:PT1H
BEGIN:VTIMEZONE
TZID:UTC
BEGIN:STANDARD
TZOFFSETFROM:+0000
TZOFFSETTO:+0000
TZNAME:UTC
DTSTART:20240101T000000
END:STANDARD
END:VTIMEZONE
BEGIN:VEVENT
DTSTART;TZID=UTC:20250727T150000
DTEND;TZID=UTC:20250727T160000
DTSTAMP:20260420T175940
CREATED:20250628T110357Z
LAST-MODIFIED:20250628T110413Z
UID:44567-1753628400-1753632000@artists-mv.de
SUMMARY:Hafenkurkonzert
DESCRIPTION:Von Ende Juni bis Mitte September kannst du jeden Sonntag um 15 Uhr ein Hafenkurkonzert am Malchower Stadthafen erleben. Genieße die Kulisse mit Blick auf die Malchower Altstadt und das Kloster direkt an der Drehbrücke. \nDer Eintritt ist frei.
URL:https://artists-mv.de/alle-veranstaltung/hafenkurkonzert/
LOCATION:Drehbrücke Malchow\, Kirchenstraße 1\, Malchow\, 17213
CATEGORIES:Konzert
ATTACH;FMTTYPE=image/webp:https://artists-mv.de/wp-content/uploads/2025/06/Jam-93.webp
END:VEVENT
END:VCALENDAR