BEGIN:VCALENDAR
VERSION:2.0
PRODID:-//artists MV - ECPv6.15.20//NONSGML v1.0//EN
CALSCALE:GREGORIAN
METHOD:PUBLISH
X-ORIGINAL-URL:https://artists-mv.de
X-WR-CALDESC:Veranstaltungen für artists MV
REFRESH-INTERVAL;VALUE=DURATION:PT1H
X-Robots-Tag:noindex
X-PUBLISHED-TTL:PT1H
BEGIN:VTIMEZONE
TZID:UTC
BEGIN:STANDARD
TZOFFSETFROM:+0000
TZOFFSETTO:+0000
TZNAME:UTC
DTSTART:20240101T000000
END:STANDARD
END:VTIMEZONE
BEGIN:VEVENT
DTSTART;TZID=UTC:20250726T100000
DTEND;TZID=UTC:20250726T233000
DTSTAMP:20260420T181559
CREATED:20240718T090927Z
LAST-MODIFIED:20250628T104830Z
UID:41407-1753524000-1753572600@artists-mv.de
SUMMARY:Schafwiesen Konzerte am 26. Juli 2025 in Glasow I Dargun
DESCRIPTION:
URL:https://artists-mv.de/alle-veranstaltung/schafwiesen-festival/
LOCATION:artists MV\, Glasow 40\, Dargun\, Mecklenburg-Vorpommern\, 17159\, Germany
CATEGORIES:Festival,Konzert
ATTACH;FMTTYPE=image/webp:https://artists-mv.de/wp-content/uploads/Bild_Header-scaled-1.webp
ORGANIZER;CN="artists MV":MAILTO:mail@artists-mv.de
END:VEVENT
END:VCALENDAR