BEGIN:VCALENDAR
VERSION:2.0
PRODID:-//artists MV - ECPv6.15.20//NONSGML v1.0//EN
CALSCALE:GREGORIAN
METHOD:PUBLISH
X-WR-CALNAME:artists MV
X-ORIGINAL-URL:https://artists-mv.de
X-WR-CALDESC:Veranstaltungen für artists MV
REFRESH-INTERVAL;VALUE=DURATION:PT1H
X-Robots-Tag:noindex
X-PUBLISHED-TTL:PT1H
BEGIN:VTIMEZONE
TZID:UTC
BEGIN:STANDARD
TZOFFSETFROM:+0000
TZOFFSETTO:+0000
TZNAME:UTC
DTSTART:20240101T000000
END:STANDARD
END:VTIMEZONE
BEGIN:VEVENT
DTSTART;TZID=UTC:20250724T200000
DTEND;TZID=UTC:20250724T230000
DTSTAMP:20260420T175913
CREATED:20250628T113150Z
LAST-MODIFIED:20250628T113227Z
UID:44578-1753387200-1753398000@artists-mv.de
SUMMARY:Leipzig\, Suedbrause bei Freunden
DESCRIPTION:Erlebe Laura Folkers mit Band \nweitere Infos folgen
URL:https://artists-mv.de/alle-veranstaltung/laura-folkers-leipzig/
LOCATION:Mecklenburg-Vorpommern
CATEGORIES:Konzert
ATTACH;FMTTYPE=image/webp:https://artists-mv.de/wp-content/uploads/1000x1000_Pics_LF_V1.webp
END:VEVENT
END:VCALENDAR