BEGIN:VCALENDAR
VERSION:2.0
PRODID:-//artists MV - ECPv6.15.20//NONSGML v1.0//EN
CALSCALE:GREGORIAN
METHOD:PUBLISH
X-ORIGINAL-URL:https://artists-mv.de
X-WR-CALDESC:Veranstaltungen für artists MV
REFRESH-INTERVAL;VALUE=DURATION:PT1H
X-Robots-Tag:noindex
X-PUBLISHED-TTL:PT1H
BEGIN:VTIMEZONE
TZID:UTC
BEGIN:STANDARD
TZOFFSETFROM:+0000
TZOFFSETTO:+0000
TZNAME:UTC
DTSTART:20240101T000000
END:STANDARD
END:VTIMEZONE
BEGIN:VEVENT
DTSTART;TZID=UTC:20250720T110000
DTEND;TZID=UTC:20250720T150000
DTSTAMP:20260420T180145
CREATED:20250626T165610Z
LAST-MODIFIED:20250628T103715Z
UID:44239-1753009200-1753023600@artists-mv.de
SUMMARY:LOST NOTES LIVE beim KULTURPICKNICK
DESCRIPTION:LOST NOTES LIVE beim KULTURPICKNICK \nSonntag\, 20.07.2025 \n11 Uhr bis 15 Uhr \nKulturpicknick – Klanghaus Ilow \nKlanghaus Ilow\, Dorfstraße 18\, 23974 Ilow
URL:https://artists-mv.de/alle-veranstaltung/lost-notes-live/
LOCATION:Mecklenburg-Vorpommern
CATEGORIES:Konzert
ATTACH;FMTTYPE=image/webp:https://artists-mv.de/wp-content/uploads/cover_lost-notes.webp
END:VEVENT
END:VCALENDAR