BEGIN:VCALENDAR
VERSION:2.0
PRODID:-//artists MV - ECPv6.15.20//NONSGML v1.0//EN
CALSCALE:GREGORIAN
METHOD:PUBLISH
X-WR-CALNAME:artists MV
X-ORIGINAL-URL:https://artists-mv.de
X-WR-CALDESC:Veranstaltungen für artists MV
REFRESH-INTERVAL;VALUE=DURATION:PT1H
X-Robots-Tag:noindex
X-PUBLISHED-TTL:PT1H
BEGIN:VTIMEZONE
TZID:UTC
BEGIN:STANDARD
TZOFFSETFROM:+0000
TZOFFSETTO:+0000
TZNAME:UTC
DTSTART:20240101T000000
END:STANDARD
END:VTIMEZONE
BEGIN:VEVENT
DTSTART;TZID=UTC:20250719T180000
DTEND;TZID=UTC:20250719T190000
DTSTAMP:20260420T180021
CREATED:20250628T112917Z
LAST-MODIFIED:20250628T124206Z
UID:44576-1752948000-1752951600@artists-mv.de
SUMMARY:Wendemark Alandhof
DESCRIPTION:Erlebe Laura Folkers im Duo \nweitere Infos folgen
URL:https://artists-mv.de/alle-veranstaltung/wendemark-alandhof/
LOCATION:Mecklenburg-Vorpommern
CATEGORIES:Konzert
ATTACH;FMTTYPE=image/webp:https://artists-mv.de/wp-content/uploads/1Local-Heroes-_Bundesfinale_2024_Laura-Folkers_Line-Tsoj_AR206153.webp
END:VEVENT
BEGIN:VEVENT
DTSTART;TZID=UTC:20250719T200000
DTEND;TZID=UTC:20250719T220000
DTSTAMP:20260420T180021
CREATED:20250710T053522Z
LAST-MODIFIED:20250710T053728Z
UID:45567-1752955200-1752962400@artists-mv.de
SUMMARY:Kutterscholle mit Speckstippe Live beim Komplexival
DESCRIPTION:Sa.19.7.2025 – Dahmsdorf – Komplexival – 20H
URL:https://artists-mv.de/alle-veranstaltung/kutterscholle-mit-speckstippe-live-beim-komplexival/
LOCATION:Komplexival\, Dahmsdorf\, Germany
CATEGORIES:Festival
ATTACH;FMTTYPE=image/webp:https://artists-mv.de/wp-content/uploads/cover_kutterscholle-mit-speckstippe.webp
END:VEVENT
END:VCALENDAR