BEGIN:VCALENDAR
VERSION:2.0
PRODID:-//artists MV - ECPv6.15.20//NONSGML v1.0//EN
CALSCALE:GREGORIAN
METHOD:PUBLISH
X-ORIGINAL-URL:https://artists-mv.de
X-WR-CALDESC:Veranstaltungen für artists MV
REFRESH-INTERVAL;VALUE=DURATION:PT1H
X-Robots-Tag:noindex
X-PUBLISHED-TTL:PT1H
BEGIN:VTIMEZONE
TZID:UTC
BEGIN:STANDARD
TZOFFSETFROM:+0000
TZOFFSETTO:+0000
TZNAME:UTC
DTSTART:20240101T000000
END:STANDARD
END:VTIMEZONE
BEGIN:VEVENT
DTSTART;TZID=UTC:20250712T170000
DTEND;TZID=UTC:20250712T190000
DTSTAMP:20260420T193913
CREATED:20250710T052431Z
LAST-MODIFIED:20250710T052431Z
UID:45559-1752339600-1752346800@artists-mv.de
SUMMARY:Kutterscholle mit Speckstippe live in Stavenhagen
DESCRIPTION:Kutterscholle mit Speckstippe live auf’m Markt in Stavenhagen \nBeginn 17 Uhr \nwww.stavenhagen.de
URL:https://artists-mv.de/alle-veranstaltung/kutterscholle-mit-speckstippe-live-in-stavenhagen/
LOCATION:Stavenhagen\, Markt\, Stavenhagen\, Mecklenburg-Vorpommern\, 17153
CATEGORIES:Konzert
ATTACH;FMTTYPE=image/webp:https://artists-mv.de/wp-content/uploads/cover_kutterscholle-mit-speckstippe.webp
END:VEVENT
END:VCALENDAR