BEGIN:VCALENDAR
VERSION:2.0
PRODID:-//artists MV - ECPv6.15.20//NONSGML v1.0//EN
CALSCALE:GREGORIAN
METHOD:PUBLISH
X-ORIGINAL-URL:https://artists-mv.de
X-WR-CALDESC:Veranstaltungen für artists MV
REFRESH-INTERVAL;VALUE=DURATION:PT1H
X-Robots-Tag:noindex
X-PUBLISHED-TTL:PT1H
BEGIN:VTIMEZONE
TZID:UTC
BEGIN:STANDARD
TZOFFSETFROM:+0000
TZOFFSETTO:+0000
TZNAME:UTC
DTSTART:20240101T000000
END:STANDARD
END:VTIMEZONE
BEGIN:VEVENT
DTSTART;TZID=UTC:20250711T200000
DTEND;TZID=UTC:20250711T230000
DTSTAMP:20260420T181743
CREATED:20250710T054443Z
LAST-MODIFIED:20250710T054626Z
UID:45579-1752264000-1752274800@artists-mv.de
SUMMARY:Decent Rocks live in Kummerow beim Hafenrock
DESCRIPTION:  \nFreitag\, 11. Juli I ab 20 Uhr I Hafenkieker Kummerow
URL:https://artists-mv.de/alle-veranstaltung/decent-rocks-live-in-kummerow-beim-hafenrock/
LOCATION:Kummerow\, Dorfstraße 51\, Kummerow\, Mecklenburg-Vorpommern\, 17139\, Germany
CATEGORIES:Konzert
ATTACH;FMTTYPE=image/webp:https://artists-mv.de/wp-content/uploads/KonzertDecentRocks.webp
END:VEVENT
END:VCALENDAR